Package: findIPs Version: 1.0.0 Command: chmod a+r findIPs -R && F:\biocbuild\bbs-3.19-bioc\R\bin\R.exe CMD build --keep-empty-dirs --no-resave-data findIPs StartedAt: 2024-06-26 18:53:11 -0400 (Wed, 26 Jun 2024) EndedAt: 2024-06-26 19:02:23 -0400 (Wed, 26 Jun 2024) EllapsedTime: 552.6 seconds RetCode: 0 Status: OK PackageFile: findIPs_1.0.0.tar.gz PackageFileSize: 2.187 MiB