Package: fcScan Version: 1.18.0 Command: /Library/Frameworks/R.framework/Resources/bin/R CMD check --install=check:fcScan.install-out.txt --library=/Library/Frameworks/R.framework/Resources/library --no-vignettes --timings fcScan_1.18.0.tar.gz StartedAt: 2024-10-17 05:15:25 -0400 (Thu, 17 Oct 2024) EndedAt: 2024-10-17 05:26:27 -0400 (Thu, 17 Oct 2024) EllapsedTime: 661.6 seconds RetCode: 0 Status: OK CheckDir: fcScan.Rcheck Warnings: 0