Package: fastLiquidAssociation Version: 1.40.0 Command: /home/biocbuild/bbs-3.19-bioc/R/bin/R CMD INSTALL fastLiquidAssociation StartedAt: 2024-10-16 16:27:22 -0400 (Wed, 16 Oct 2024) EndedAt: 2024-10-16 16:27:41 -0400 (Wed, 16 Oct 2024) EllapsedTime: 19.0 seconds RetCode: 0 Status: OK