Package: fastLiquidAssociation Version: 1.40.0 Command: /home/biocbuild/bbs-3.19-bioc/R/bin/R CMD build --keep-empty-dirs --no-resave-data fastLiquidAssociation StartedAt: 2024-10-16 18:28:22 -0400 (Wed, 16 Oct 2024) EndedAt: 2024-10-16 18:29:37 -0400 (Wed, 16 Oct 2024) EllapsedTime: 75.1 seconds RetCode: 0 Status: OK PackageFile: fastLiquidAssociation_1.40.0.tar.gz PackageFileSize: 750.5 KiB