Package: famat Version: 1.14.0 Command: /Library/Frameworks/R.framework/Resources/bin/R CMD INSTALL famat StartedAt: 2024-10-16 16:23:24 -0400 (Wed, 16 Oct 2024) EndedAt: 2024-10-16 16:25:07 -0400 (Wed, 16 Oct 2024) EllapsedTime: 102.9 seconds RetCode: 0 Status: OK