Package: fCCAC Version: 1.30.0 Command: /home/biocbuild/bbs-3.19-bioc/R/bin/R CMD build --keep-empty-dirs --no-resave-data fCCAC StartedAt: 2024-10-16 18:29:17 -0400 (Wed, 16 Oct 2024) EndedAt: 2024-10-16 18:30:15 -0400 (Wed, 16 Oct 2024) EllapsedTime: 58.1 seconds RetCode: 0 Status: OK PackageFile: fCCAC_1.30.0.tar.gz PackageFileSize: 3.499 MiB