Package: fCCAC Version: 1.30.0 Command: /Library/Frameworks/R.framework/Resources/bin/R CMD build --keep-empty-dirs --no-resave-data fCCAC StartedAt: 2024-10-16 19:13:33 -0400 (Wed, 16 Oct 2024) EndedAt: 2024-10-16 19:16:12 -0400 (Wed, 16 Oct 2024) EllapsedTime: 159.1 seconds RetCode: 0 Status: OK PackageFile: fCCAC_1.30.0.tar.gz PackageFileSize: 3.498 MiB