Package: evaluomeR Version: 1.20.0 Command: rm -rf evaluomeR.buildbin-libdir && mkdir evaluomeR.buildbin-libdir && /Users/biocbuild/BBS/utils/build-universal.sh evaluomeR_1.20.0.tar.gz /Library/Frameworks/R.framework/Resources/bin/R evaluomeR.buildbin-libdir StartedAt: 2024-06-10 00:17:29 -0400 (Mon, 10 Jun 2024) EndedAt: 2024-06-10 00:18:11 -0400 (Mon, 10 Jun 2024) EllapsedTime: 41.8 seconds RetCode: 0 Status: OK PackageFile: evaluomeR_1.20.0.tgz PackageFileSize: 1018 KiB