Package: escape Version: 2.0.0 Command: /home/biocbuild/bbs-3.19-bioc/R/bin/R CMD check --install=check:escape.install-out.txt --library=/home/biocbuild/bbs-3.19-bioc/R/site-library --timings escape_2.0.0.tar.gz StartedAt: 2024-10-17 00:17:08 -0400 (Thu, 17 Oct 2024) EndedAt: 2024-10-17 00:24:35 -0400 (Thu, 17 Oct 2024) EllapsedTime: 446.9 seconds RetCode: 0 Status: OK CheckDir: escape.Rcheck Warnings: 0