Package: escape Version: 2.0.0 Command: /home/biocbuild/bbs-3.19-bioc/R/bin/R CMD build --keep-empty-dirs --no-resave-data escape StartedAt: 2024-10-16 18:25:55 -0400 (Wed, 16 Oct 2024) EndedAt: 2024-10-16 18:27:18 -0400 (Wed, 16 Oct 2024) EllapsedTime: 83.1 seconds RetCode: 0 Status: OK PackageFile: escape_2.0.0.tar.gz PackageFileSize: 3.77 MiB