Package: epivizrData Version: 1.32.0 Command: /Library/Frameworks/R.framework/Resources/bin/R CMD check --install=check:epivizrData.install-out.txt --library=/Library/Frameworks/R.framework/Resources/library --no-vignettes --timings epivizrData_1.32.0.tar.gz StartedAt: 2024-10-17 21:07:04 -0400 (Thu, 17 Oct 2024) EndedAt: 2024-10-17 21:12:59 -0400 (Thu, 17 Oct 2024) EllapsedTime: 354.6 seconds RetCode: 0 Status: OK CheckDir: epivizrData.Rcheck Warnings: 0