Package: epivizrChart Version: 1.26.0 Command: chmod a+r epivizrChart -R && F:\biocbuild\bbs-3.19-bioc\R\bin\R.exe CMD build --keep-empty-dirs --no-resave-data epivizrChart StartedAt: 2024-06-26 18:41:53 -0400 (Wed, 26 Jun 2024) EndedAt: 2024-06-26 18:44:13 -0400 (Wed, 26 Jun 2024) EllapsedTime: 140.1 seconds RetCode: 0 Status: OK PackageFile: epivizrChart_1.26.0.tar.gz PackageFileSize: 5.304 MiB