Package: epivizr Version: 2.34.0 Command: /Library/Frameworks/R.framework/Resources/bin/R CMD check --install=check:epivizr.install-out.txt --library=/Library/Frameworks/R.framework/Resources/library --no-vignettes --timings epivizr_2.34.0.tar.gz StartedAt: 2024-06-10 15:09:52 -0400 (Mon, 10 Jun 2024) EndedAt: 2024-06-10 15:19:41 -0400 (Mon, 10 Jun 2024) EllapsedTime: 589.0 seconds RetCode: 0 Status: OK CheckDir: epivizr.Rcheck Warnings: 0