Package: epistasisGA Version: 1.6.0 Command: rm -rf epistasisGA.buildbin-libdir && mkdir epistasisGA.buildbin-libdir && /Users/biocbuild/BBS/utils/build-universal.sh epistasisGA_1.6.0.tar.gz /Library/Frameworks/R.framework/Resources/bin/R epistasisGA.buildbin-libdir StartedAt: 2024-10-18 18:23:43 -0400 (Fri, 18 Oct 2024) EndedAt: 2024-10-18 18:24:37 -0400 (Fri, 18 Oct 2024) EllapsedTime: 54.2 seconds RetCode: 0 Status: OK PackageFile: epistasisGA_1.6.0.tgz PackageFileSize: 2.405 MiB