Package: epistack Version: 1.10.0 Command: /Library/Frameworks/R.framework/Resources/bin/R CMD INSTALL epistack StartedAt: 2024-06-09 15:09:43 -0400 (Sun, 09 Jun 2024) EndedAt: 2024-06-09 15:10:11 -0400 (Sun, 09 Jun 2024) EllapsedTime: 28.1 seconds RetCode: 0 Status: OK