Package: epigraHMM Version: 1.12.0 Command: /Library/Frameworks/R.framework/Resources/bin/R CMD build --keep-empty-dirs --no-resave-data epigraHMM StartedAt: 2024-06-09 21:14:14 -0400 (Sun, 09 Jun 2024) EndedAt: 2024-06-09 21:26:22 -0400 (Sun, 09 Jun 2024) EllapsedTime: 728.1 seconds RetCode: 0 Status: OK PackageFile: epigraHMM_1.12.0.tar.gz PackageFileSize: 734.7 KiB