Package: epiNEM Version: 1.28.0 Command: E:\biocbuild\bbs-3.19-bioc\R\bin\R.exe CMD INSTALL epiNEM StartedAt: 2024-10-16 17:15:32 -0400 (Wed, 16 Oct 2024) EndedAt: 2024-10-16 17:16:00 -0400 (Wed, 16 Oct 2024) EllapsedTime: 27.6 seconds RetCode: 0 Status: OK