Package: epiNEM Version: 1.28.0 Command: /Library/Frameworks/R.framework/Resources/bin/R CMD build --keep-empty-dirs --no-resave-data epiNEM StartedAt: 2024-06-09 21:14:56 -0400 (Sun, 09 Jun 2024) EndedAt: 2024-06-09 21:16:41 -0400 (Sun, 09 Jun 2024) EllapsedTime: 105.3 seconds RetCode: 0 Status: OK PackageFile: epiNEM_1.28.0.tar.gz PackageFileSize: 2.403 MiB