Package: easyreporting Version: 1.16.0 Command: chmod a+r easyreporting -R && F:\biocbuild\bbs-3.19-bioc\R\bin\R.exe CMD build --keep-empty-dirs --no-resave-data easyreporting StartedAt: 2024-06-26 18:32:19 -0400 (Wed, 26 Jun 2024) EndedAt: 2024-06-26 18:32:36 -0400 (Wed, 26 Jun 2024) EllapsedTime: 16.7 seconds RetCode: 0 Status: OK PackageFile: easyreporting_1.16.0.tar.gz PackageFileSize: 2.94 MiB