Package: easylift Version: 1.2.0 Command: rm -rf easylift.buildbin-libdir && mkdir easylift.buildbin-libdir && E:\biocbuild\bbs-3.19-bioc\R\bin\R.exe CMD INSTALL --build --library=easylift.buildbin-libdir easylift_1.2.0.tar.gz StartedAt: 2024-10-17 07:43:47 -0400 (Thu, 17 Oct 2024) EndedAt: 2024-10-17 07:44:23 -0400 (Thu, 17 Oct 2024) EllapsedTime: 36.5 seconds RetCode: 0 Status: OK PackageFile: easylift_1.2.0.zip PackageFileSize: 693.4 KiB