Package: easyRNASeq Version: 2.40.1 Command: /Library/Frameworks/R.framework/Resources/bin/R CMD check --install=check:easyRNASeq.install-out.txt --library=/Library/Frameworks/R.framework/Resources/library --no-vignettes --timings easyRNASeq_2.40.1.tar.gz StartedAt: 2024-10-17 04:41:42 -0400 (Thu, 17 Oct 2024) EndedAt: 2024-10-17 05:07:52 -0400 (Thu, 17 Oct 2024) EllapsedTime: 1570.8 seconds RetCode: 1 Status: ERROR CheckDir: easyRNASeq.Rcheck Warnings: NA