Package: easier Version: 1.10.0 Command: /Library/Frameworks/R.framework/Resources/bin/R CMD check --install=check:easier.install-out.txt --library=/Library/Frameworks/R.framework/Resources/library --no-vignettes --timings easier_1.10.0.tar.gz StartedAt: 2024-10-17 20:22:47 -0400 (Thu, 17 Oct 2024) EndedAt: 2024-10-17 20:33:21 -0400 (Thu, 17 Oct 2024) EllapsedTime: 633.8 seconds RetCode: 0 Status: OK CheckDir: easier.Rcheck Warnings: 0