Package: dpeak Version: 1.16.0 Command: chmod a+r dpeak -R && E:\biocbuild\bbs-3.19-bioc\R\bin\R.exe CMD build --keep-empty-dirs --no-resave-data dpeak StartedAt: 2024-10-16 18:47:00 -0400 (Wed, 16 Oct 2024) EndedAt: 2024-10-16 18:48:52 -0400 (Wed, 16 Oct 2024) EllapsedTime: 111.9 seconds RetCode: 0 Status: OK PackageFile: dpeak_1.16.0.tar.gz PackageFileSize: 295.4 KiB