Package: dpeak Version: 1.16.0 Command: rm -rf dpeak.buildbin-libdir && mkdir dpeak.buildbin-libdir && E:\biocbuild\bbs-3.19-bioc\R\bin\R.exe CMD INSTALL --build --library=dpeak.buildbin-libdir dpeak_1.16.0.tar.gz StartedAt: 2024-10-17 07:43:10 -0400 (Thu, 17 Oct 2024) EndedAt: 2024-10-17 07:44:39 -0400 (Thu, 17 Oct 2024) EllapsedTime: 88.5 seconds RetCode: 0 Status: OK PackageFile: dpeak_1.16.0.zip PackageFileSize: 958 KiB