Package: doubletrouble Version: 1.4.4 Command: /Library/Frameworks/R.framework/Resources/bin/R CMD check --install=check:doubletrouble.install-out.txt --library=/Library/Frameworks/R.framework/Resources/library --no-vignettes --timings doubletrouble_1.4.4.tar.gz StartedAt: 2024-10-17 04:32:08 -0400 (Thu, 17 Oct 2024) EndedAt: 2024-10-17 04:45:15 -0400 (Thu, 17 Oct 2024) EllapsedTime: 786.5 seconds RetCode: 0 Status: OK CheckDir: doubletrouble.Rcheck Warnings: 0