Package: doubletrouble Version: 1.4.4 Command: rm -rf doubletrouble.buildbin-libdir && mkdir doubletrouble.buildbin-libdir && /Users/biocbuild/BBS/utils/build-universal.sh doubletrouble_1.4.4.tar.gz /Library/Frameworks/R.framework/Resources/bin/R doubletrouble.buildbin-libdir StartedAt: 2024-10-17 16:03:41 -0400 (Thu, 17 Oct 2024) EndedAt: 2024-10-17 16:05:15 -0400 (Thu, 17 Oct 2024) EllapsedTime: 94.0 seconds RetCode: 0 Status: OK PackageFile: doubletrouble_1.4.4.tgz PackageFileSize: 4.891 MiB