Package: diggit Version: 1.36.0 Command: /home/biocbuild/bbs-3.19-bioc/R/bin/R CMD build --keep-empty-dirs --no-resave-data diggit StartedAt: 2024-10-16 18:14:11 -0400 (Wed, 16 Oct 2024) EndedAt: 2024-10-16 18:16:27 -0400 (Wed, 16 Oct 2024) EllapsedTime: 136.3 seconds RetCode: 0 Status: OK PackageFile: diggit_1.36.0.tar.gz PackageFileSize: 203.2 KiB