Package: destiny Version: 3.18.0 Command: E:\biocbuild\bbs-3.19-bioc\R\bin\R.exe CMD check --no-multiarch --install=check:destiny.install-out.txt --library=E:\biocbuild\bbs-3.19-bioc\R\library --no-vignettes --timings destiny_3.18.0.tar.gz StartedAt: 2024-07-14 23:55:12 -0400 (Sun, 14 Jul 2024) EndedAt: 2024-07-15 00:00:37 -0400 (Mon, 15 Jul 2024) EllapsedTime: 324.9 seconds RetCode: 0 Status: OK CheckDir: destiny.Rcheck Warnings: 0