Package: destiny Version: 3.18.0 Command: chmod a+r destiny -R && E:\biocbuild\bbs-3.19-bioc\R\bin\R.exe CMD build --keep-empty-dirs --no-resave-data destiny StartedAt: 2024-10-16 18:41:06 -0400 (Wed, 16 Oct 2024) EndedAt: 2024-10-16 19:21:07 -0400 (Wed, 16 Oct 2024) EllapsedTime: 2401.0 seconds RetCode: None Status: TIMEOUT PackageFile: None PackageFileSize: NA