Package: derfinderPlot Version: 1.38.0 Command: /Library/Frameworks/R.framework/Resources/bin/R CMD build --keep-empty-dirs --no-resave-data derfinderPlot StartedAt: 2024-06-09 20:35:26 -0400 (Sun, 09 Jun 2024) EndedAt: 2024-06-09 20:39:27 -0400 (Sun, 09 Jun 2024) EllapsedTime: 240.3 seconds RetCode: 0 Status: OK PackageFile: derfinderPlot_1.38.0.tar.gz PackageFileSize: 2.438 MiB