Package: derfinderHelper Version: 1.38.0 Command: /Library/Frameworks/R.framework/Resources/bin/R CMD INSTALL derfinderHelper StartedAt: 2024-06-09 15:06:34 -0400 (Sun, 09 Jun 2024) EndedAt: 2024-06-09 15:06:58 -0400 (Sun, 09 Jun 2024) EllapsedTime: 23.9 seconds RetCode: 0 Status: OK