Package: derfinderHelper Version: 1.38.0 Command: /home/biocbuild/R/R-beta-2024-04-15_r86425/bin/R CMD INSTALL derfinderHelper StartedAt: 2024-05-08 20:07:54 -0000 (Wed, 08 May 2024) EndedAt: 2024-05-08 20:08:28 -0000 (Wed, 08 May 2024) EllapsedTime: 34.4 seconds RetCode: 0 Status: OK