Package: densvis Version: 1.14.0 Command: F:\biocbuild\bbs-3.19-bioc\R\bin\R.exe CMD check --no-multiarch --install=check:densvis.install-out.txt --library=F:\biocbuild\bbs-3.19-bioc\R\library --no-vignettes --timings densvis_1.14.0.tar.gz StartedAt: 2024-06-27 00:54:35 -0400 (Thu, 27 Jun 2024) EndedAt: 2024-06-27 00:58:17 -0400 (Thu, 27 Jun 2024) EllapsedTime: 222.2 seconds RetCode: 0 Status: OK CheckDir: densvis.Rcheck Warnings: 0