Package: densvis Version: 1.14.0 Command: /home/biocbuild/R/R-beta-2024-04-15_r86425/bin/R CMD build --keep-empty-dirs --no-resave-data densvis StartedAt: 2024-05-08 23:50:08 -0000 (Wed, 08 May 2024) EndedAt: 2024-05-08 23:52:39 -0000 (Wed, 08 May 2024) EllapsedTime: 150.2 seconds RetCode: 0 Status: OK PackageFile: densvis_1.14.0.tar.gz PackageFileSize: 919.9 KiB