Package: debCAM Version: 1.22.0 Command: /Library/Frameworks/R.framework/Resources/bin/R CMD INSTALL debCAM StartedAt: 2024-10-16 16:13:07 -0400 (Wed, 16 Oct 2024) EndedAt: 2024-10-16 16:13:33 -0400 (Wed, 16 Oct 2024) EllapsedTime: 26.5 seconds RetCode: 0 Status: OK