Package: dcanr Version: 1.20.0 Command: /Library/Frameworks/R.framework/Resources/bin/R CMD build --keep-empty-dirs --no-resave-data dcanr StartedAt: 2024-10-16 18:27:45 -0400 (Wed, 16 Oct 2024) EndedAt: 2024-10-16 18:29:06 -0400 (Wed, 16 Oct 2024) EllapsedTime: 81.1 seconds RetCode: 0 Status: OK PackageFile: dcanr_1.20.0.tar.gz PackageFileSize: 1.744 MiB