Package: cytoviewer Version: 1.4.0 Command: /Library/Frameworks/R.framework/Resources/bin/R CMD build --keep-empty-dirs --no-resave-data cytoviewer StartedAt: 2024-10-16 22:39:59 -0400 (Wed, 16 Oct 2024) EndedAt: 2024-10-16 22:41:24 -0400 (Wed, 16 Oct 2024) EllapsedTime: 85.2 seconds RetCode: 0 Status: OK PackageFile: cytoviewer_1.4.0.tar.gz PackageFileSize: 9.26 MiB