Package: customCMPdb Version: 1.14.0 Command: /home/biocbuild/bbs-3.19-bioc/R/bin/R CMD check --install=check:customCMPdb.install-out.txt --library=/home/biocbuild/bbs-3.19-bioc/R/site-library --timings customCMPdb_1.14.0.tar.gz StartedAt: 2024-10-16 23:20:11 -0400 (Wed, 16 Oct 2024) EndedAt: 2024-10-16 23:24:45 -0400 (Wed, 16 Oct 2024) EllapsedTime: 274.7 seconds RetCode: 0 Status: OK CheckDir: customCMPdb.Rcheck Warnings: 0