Package: crlmm Version: 1.62.0 Command: rm -rf crlmm.buildbin-libdir && mkdir crlmm.buildbin-libdir && F:\biocbuild\bbs-3.19-bioc\R\bin\R.exe CMD INSTALL --build --library=crlmm.buildbin-libdir crlmm_1.62.0.tar.gz StartedAt: 2024-06-27 08:03:34 -0400 (Thu, 27 Jun 2024) EndedAt: 2024-06-27 08:04:47 -0400 (Thu, 27 Jun 2024) EllapsedTime: 72.7 seconds RetCode: 0 Status: OK PackageFile: crlmm_1.62.0.zip PackageFileSize: 5.019 MiB