Package: crisprBase Version: 1.8.0 Command: chmod a+r crisprBase -R && E:\biocbuild\bbs-3.19-bioc\R\bin\R.exe CMD build --keep-empty-dirs --no-resave-data crisprBase StartedAt: 2024-10-16 18:25:33 -0400 (Wed, 16 Oct 2024) EndedAt: 2024-10-16 18:26:17 -0400 (Wed, 16 Oct 2024) EllapsedTime: 43.9 seconds RetCode: 0 Status: OK PackageFile: crisprBase_1.8.0.tar.gz PackageFileSize: 1.68 MiB