Package: crisprBase Version: 1.8.0 Command: chmod a+r crisprBase -R && F:\biocbuild\bbs-3.19-bioc\R\bin\R.exe CMD build --keep-empty-dirs --no-resave-data crisprBase StartedAt: 2024-06-26 18:02:59 -0400 (Wed, 26 Jun 2024) EndedAt: 2024-06-26 18:03:40 -0400 (Wed, 26 Jun 2024) EllapsedTime: 40.8 seconds RetCode: 0 Status: OK PackageFile: crisprBase_1.8.0.tar.gz PackageFileSize: 1.68 MiB