Package: crisprBase Version: 1.8.0 Command: rm -rf crisprBase.buildbin-libdir && mkdir crisprBase.buildbin-libdir && F:\biocbuild\bbs-3.19-bioc\R\bin\R.exe CMD INSTALL --build --library=crisprBase.buildbin-libdir crisprBase_1.8.0.tar.gz StartedAt: 2024-06-27 08:03:14 -0400 (Thu, 27 Jun 2024) EndedAt: 2024-06-27 08:03:48 -0400 (Thu, 27 Jun 2024) EllapsedTime: 34.4 seconds RetCode: 0 Status: OK PackageFile: crisprBase_1.8.0.zip PackageFileSize: 1.462 MiB