Package: crisprBase Version: 1.8.0 Command: /home/biocbuild/R/R-beta-2024-04-15_r86425/bin/R CMD check --install=check:crisprBase.install-out.txt --library=/home/biocbuild/R/R-beta-2024-04-15_r86425/site-library --no-vignettes --timings crisprBase_1.8.0.tar.gz StartedAt: 2024-05-09 06:16:24 -0000 (Thu, 09 May 2024) EndedAt: 2024-05-09 06:18:26 -0000 (Thu, 09 May 2024) EllapsedTime: 122.2 seconds RetCode: 0 Status: OK CheckDir: crisprBase.Rcheck Warnings: 0