Package: cqn Version: 1.50.0 Command: /Library/Frameworks/R.framework/Resources/bin/R CMD build --keep-empty-dirs --no-resave-data cqn StartedAt: 2024-10-16 22:20:08 -0400 (Wed, 16 Oct 2024) EndedAt: 2024-10-16 22:20:34 -0400 (Wed, 16 Oct 2024) EllapsedTime: 26.3 seconds RetCode: 0 Status: OK PackageFile: cqn_1.50.0.tar.gz PackageFileSize: 1.041 MiB