Package: compartmap Version: 1.22.0 Command: /Library/Frameworks/R.framework/Resources/bin/R CMD build --keep-empty-dirs --no-resave-data compartmap StartedAt: 2024-06-09 19:47:32 -0400 (Sun, 09 Jun 2024) EndedAt: 2024-06-09 19:50:05 -0400 (Sun, 09 Jun 2024) EllapsedTime: 153.1 seconds RetCode: 0 Status: OK PackageFile: compartmap_1.22.0.tar.gz PackageFileSize: 3.475 MiB