Package: comapr Version: 1.8.0 Command: /Library/Frameworks/R.framework/Resources/bin/R CMD build --keep-empty-dirs --no-resave-data comapr StartedAt: 2024-06-09 19:46:46 -0400 (Sun, 09 Jun 2024) EndedAt: 2024-06-09 19:48:47 -0400 (Sun, 09 Jun 2024) EllapsedTime: 121.2 seconds RetCode: 0 Status: OK PackageFile: comapr_1.8.0.tar.gz PackageFileSize: 976.5 KiB