Package: cogena Version: 1.38.0 Command: rm -rf cogena.buildbin-libdir && mkdir cogena.buildbin-libdir && /Users/biocbuild/BBS/utils/build-universal.sh cogena_1.38.0.tar.gz /Library/Frameworks/R.framework/Resources/bin/R cogena.buildbin-libdir StartedAt: 2024-06-10 00:12:28 -0400 (Mon, 10 Jun 2024) EndedAt: 2024-06-10 00:12:50 -0400 (Mon, 10 Jun 2024) EllapsedTime: 22.8 seconds RetCode: 0 Status: OK PackageFile: cogena_1.38.0.tgz PackageFileSize: 7.705 MiB