Package: cogena Version: 1.38.0 Command: /Library/Frameworks/R.framework/Resources/bin/R CMD build --keep-empty-dirs --no-resave-data cogena StartedAt: 2024-06-09 19:45:14 -0400 (Sun, 09 Jun 2024) EndedAt: 2024-06-09 19:49:13 -0400 (Sun, 09 Jun 2024) EllapsedTime: 239.1 seconds RetCode: 0 Status: OK PackageFile: cogena_1.38.0.tar.gz PackageFileSize: 7.508 MiB