Package: coMethDMR Version: 1.8.0 Command: F:\biocbuild\bbs-3.19-bioc\R\bin\R.exe CMD check --no-multiarch --install=check:coMethDMR.install-out.txt --library=F:\biocbuild\bbs-3.19-bioc\R\library --no-vignettes --timings coMethDMR_1.8.0.tar.gz StartedAt: 2024-06-27 00:19:36 -0400 (Thu, 27 Jun 2024) EndedAt: 2024-06-27 00:32:03 -0400 (Thu, 27 Jun 2024) EllapsedTime: 746.4 seconds RetCode: 0 Status: OK CheckDir: coMethDMR.Rcheck Warnings: 0