Package: coMET Version: 1.36.0 Command: E:\biocbuild\bbs-3.19-bioc\R\bin\R.exe CMD check --no-multiarch --install=check:coMET.install-out.txt --library=E:\biocbuild\bbs-3.19-bioc\R\library --no-vignettes --timings coMET_1.36.0.tar.gz StartedAt: 2024-10-17 00:14:30 -0400 (Thu, 17 Oct 2024) EndedAt: 2024-10-17 00:23:46 -0400 (Thu, 17 Oct 2024) EllapsedTime: 555.8 seconds RetCode: 1 Status: ERROR CheckDir: coMET.Rcheck Warnings: NA